BEGIN:VCALENDAR
VERSION:2.0
PRODID:-//Obersorbisch - ECPv4.1.3//NONSGML v1.0//EN
CALSCALE:GREGORIAN
METHOD:PUBLISH
X-WR-CALNAME:Obersorbisch
X-ORIGINAL-URL:https://www.witaj-sprachzentrum.de/obersorbisch/sb
X-WR-CALDESC:Events for Obersorbisch
BEGIN:VEVENT
DTSTART;TZID=Europe/Berlin:20200909T190000
DTEND;TZID=Europe/Berlin:20210120T203000
DTSTAMP:20260419T124611
CREATED:20191219T103750
LAST-MODIFIED:20200806T070022
UID:18952-1599678000-1611174600@www.witaj-sprachzentrum.de
SUMMARY:Zakładny kurs serbšćiny w Pančicach-Kukowje
DESCRIPTION:Zakładny kurs serbšćiny w Pančicach-Kukowje\nHdy?\n\n09.09.2020 hač do 20.01.2021\, na srjedach\, wot 19:00 hodź. hač do 20:30 hodź.\n\nHdźe?\n\nwe wikariji w Pančicach Kukowje\n\nwučer\n\nPětr Korjeńk\n\nkóšty\n\n85\,00 €\n\npřizjewjenje\n\ntelefon 03591 550400 | e-mail: sekretariat@witaj.domowina.de\n\n 
URL:https://www.witaj-sprachzentrum.de/obersorbisch/sb/event/vertiefungskurs-obersorbisch/
ATTACH;FMTTYPE=image/jpeg:https://www.witaj-sprachzentrum.de/obersorbisch/wp-content/uploads/sites/3/2017/12/Sprachkurs-Veranstaltung.jpg
END:VEVENT
END:VCALENDAR