BEGIN:VCALENDAR
VERSION:2.0
PRODID:-//Obersorbisch - ECPv4.1.3//NONSGML v1.0//EN
CALSCALE:GREGORIAN
METHOD:PUBLISH
X-WR-CALNAME:Obersorbisch
X-ORIGINAL-URL:https://www.witaj-sprachzentrum.de/obersorbisch/sb
X-WR-CALDESC:Events for Obersorbisch
BEGIN:VEVENT
DTSTART;TZID=Europe/Berlin:20191115T080000
DTEND;TZID=Europe/Berlin:20191115T230000
DTSTAMP:20260419T182546
CREATED:20191004T084308
LAST-MODIFIED:20191115T083606
UID:18831-1573804800-1573858800@www.witaj-sprachzentrum.de
SUMMARY:Předčitanski dźeń
DESCRIPTION:Pjatk\, 15. nowembra 2019\, wotměje so k 16. razej po cyłej Němskej předčitanski dźeń. Dorosćeni čitaja před dźěćimi ze swojich najlubšich knihow a posrědkuja jim tak swoju zahoritosć za čitanje.\n\nwww.vorlesetag.de\n\nMy organizujemy čitanja\n\n \tw pěstowarnjach w Sulšecach\, Pančicach-Kukowje\, Bukecach a Ralbicach\,\n \tw serbskich zakładnych šulach w Radworju\, Ralbicach\, Pančicach-Kukowje\, Chrósćicach\, Budyšinje a Worklecach\,\n \tna Serbskej wyšej šuli Worklecy a\n \tna Lessingowym gymnaziju we Wojerecach.\n\nKontakt\n\nMichaela Hrjehorjowa | telefon: 03591 550 414 | e-mail: michaela.hrjehorjowa@witaj.domowina.de\n\n 
URL:https://www.witaj-sprachzentrum.de/obersorbisch/sb/event/bundesweiter-vorlesetag-2/
ATTACH;FMTTYPE=image/jpeg:https://www.witaj-sprachzentrum.de/obersorbisch/wp-content/uploads/sites/3/2019/10/vorlesetag-2019.jpg
END:VEVENT
END:VCALENDAR